BEGIN:VCALENDAR
VERSION:2.0
PRODID:-//Segesd - ECPv6.15.12.2//NONSGML v1.0//EN
CALSCALE:GREGORIAN
METHOD:PUBLISH
X-WR-CALNAME:Segesd
X-ORIGINAL-URL:https://segesd.hu
X-WR-CALDESC:Events for Segesd
REFRESH-INTERVAL;VALUE=DURATION:PT1H
X-Robots-Tag:noindex
X-PUBLISHED-TTL:PT1H
BEGIN:VTIMEZONE
TZID:UTC
BEGIN:STANDARD
TZOFFSETFROM:+0000
TZOFFSETTO:+0000
TZNAME:UTC
DTSTART:20220101T000000
END:STANDARD
END:VTIMEZONE
BEGIN:VEVENT
DTSTART;TZID=UTC:20230902T090000
DTEND;TZID=UTC:20230902T220000
DTSTAMP:20260424T120804
CREATED:20230810T080128Z
LAST-MODIFIED:20230810T080513Z
UID:25776-1693645200-1693692000@segesd.hu
SUMMARY:SEGESD KÖZSÉG ÖNKORMÁNYZATA ÉS SEGESD KÖZSÉG ROMA NEMZETISÉGI ÖNKORMÁNYZATA KÖZÖS KULTURÁLIS RENDEZVÉNYE
DESCRIPTION:Programok: \n\n09:00 Főzőverseny kezdete\n12:30 Zsűrizés – Díjak átadása\n13:30 Megnyitó (Köszöntőt mond Szászfalvi László országgyűlési képviselő\, Pékó Gábor polgármester\, Széll Árpádné Roma Nemzetiségi Önkormányzat Elnöke)\n14:00 Kangoo Jumps\n14:30 Peter Šrámek\n15:00 Kökény Attila\n16:00 Rostás Szabika\n17:00 Rigó Jancsi\n18:00 Jambó zenekar\n22:00 Rendezvény zárása\n\nKísérő programok: \n\nA Böhönye és Vidéke Mentőalapítvány jóvoltából egészségügyi szűrés\nRendőrség munkájának bemutatása\nUgrálóvár\nArcfestés\nÍjászkodási lehetőség\nBüfé\nVattacukor\nPOP-CORN\nLángos\nKürtőskalács\n\n \n 
URL:https://segesd.hu/esemeny/segesd-kozseg-onkormanyzata-es-segesd-kozseg-roma-nemzetisegi-onkormanyzata-kozos-kulturalis-rendezvenye/
LOCATION:Művelődési Központ Segesd\, Teleki utca 2.\, Segesd\, Somogy\, 7562\, Hungary
ATTACH;FMTTYPE=image/jpeg:https://segesd.hu/wp-content/uploads/2023/08/IMG_3967-scaled.jpeg
ORGANIZER;CN="SEGESD K%C3%96ZS%C3%89G %C3%96NKORM%C3%81NYZATA %C3%89S SEGESD K%C3%96ZS%C3%89G ROMA NEMZETIS%C3%89GI %C3%96NKORM%C3%81NYZATA":MAILTO:info@segesd.hu
END:VEVENT
BEGIN:VEVENT
DTSTART;TZID=UTC:20231020T173000
DTEND;TZID=UTC:20231020T193000
DTSTAMP:20260424T120804
CREATED:20231018T085742Z
LAST-MODIFIED:20231018T090213Z
UID:26012-1697823000-1697830200@segesd.hu
SUMMARY:Október 23-i megemlékezés
DESCRIPTION:Segesd Község Önkormányzatának Képviselő-testülete Nevében Tisztelettel Meghívom Önt Az 1956-os Forradalom és Szabadságharc évfordulója alkalmából szervezett ünnepségre a MŰVELŐDÉSI HÁZBA. \nÜNNEPI PROGRAM \n2023. október 20 -án 17.30 órakor \n\nHIMNUSZ\nÜnnepi köszöntőt mond: Pékó Gábor polgármester\nÜnnepi köszöntőt mond: Szászfalvi László országgyűlési képviselő\nIV. Béla Király Általános Iskola tanulóinak műsora\nDerűs Alkony Nyugdíjas Egyesület műsora\nKözségi kitüntetések átadása: Pékó Gábor polgármester\n\nSok szeretettel várunk mindenkit!
URL:https://segesd.hu/esemeny/oktober-23-i-megemlekezes/
LOCATION:Művelődési Központ Segesd\, Teleki utca 2.\, Segesd\, Somogy\, 7562\, Hungary
ATTACH;FMTTYPE=image/jpeg:https://segesd.hu/wp-content/uploads/2023/10/okt_23.jpg
ORGANIZER;CN="Segesd K%C3%B6zs%C3%A9g %C3%96nkorm%C3%A1nyzata":MAILTO:info@segesd.hu
END:VEVENT
END:VCALENDAR