BEGIN:VCALENDAR
VERSION:2.0
PRODID:-//Segesd - ECPv6.15.12.2//NONSGML v1.0//EN
CALSCALE:GREGORIAN
METHOD:PUBLISH
X-ORIGINAL-URL:https://segesd.hu
X-WR-CALDESC:Events for Segesd
REFRESH-INTERVAL;VALUE=DURATION:PT1H
X-Robots-Tag:noindex
X-PUBLISHED-TTL:PT1H
BEGIN:VTIMEZONE
TZID:UTC
BEGIN:STANDARD
TZOFFSETFROM:+0000
TZOFFSETTO:+0000
TZNAME:UTC
DTSTART:20210101T000000
END:STANDARD
END:VTIMEZONE
BEGIN:VEVENT
DTSTART;TZID=UTC:20221216T160000
DTEND;TZID=UTC:20221216T180000
DTSTAMP:20260424T025503
CREATED:20221212T184447Z
LAST-MODIFIED:20221212T184953Z
UID:25064-1671206400-1671213600@segesd.hu
SUMMARY:Mindenki karácsonya 2022
DESCRIPTION:Program: \nÁldást mond:  \n\nGalambfalvi Márton református lelkész\nKóré Mihály katolikus plébános\n\nFellépők: \n\nApáti Sára\nDerűs Alkony Nyugdíjas Egyesület\nSegesdi Fájdalmas Szűzanya Kórus\nSegesdi Tündérkert Óvoda óvodásai\nSegesdi IV. Béla Király Általános Iskola tanulói\n\nForralt bor\, tea\, mézeskalács várja kedves vendégeinket!
URL:https://segesd.hu/esemeny/mindenki-karacsonya-2022/
LOCATION:Művelődési Központ Segesd\, Teleki utca 2.\, Segesd\, Somogy\, 7562\, Hungary
END:VEVENT
END:VCALENDAR